BEGIN:VCALENDAR
VERSION:2.0
PRODID:-//Broken Bow Golf Club - ECPv6.15.18//NONSGML v1.0//EN
CALSCALE:GREGORIAN
METHOD:PUBLISH
X-WR-CALNAME:Broken Bow Golf Club
X-ORIGINAL-URL:https://www.brokenbowgolfclub.com
X-WR-CALDESC:Events for Broken Bow Golf Club
REFRESH-INTERVAL;VALUE=DURATION:PT1H
X-Robots-Tag:noindex
X-PUBLISHED-TTL:PT1H
BEGIN:VTIMEZONE
TZID:UTC
BEGIN:STANDARD
TZOFFSETFROM:+0000
TZOFFSETTO:+0000
TZNAME:UTC
DTSTART:20250101T000000
END:STANDARD
END:VTIMEZONE
BEGIN:VEVENT
DTSTART;TZID=UTC:20260422T160000
DTEND;TZID=UTC:20260422T220000
DTSTAMP:20260421T154313
CREATED:20260305T235146Z
LAST-MODIFIED:20260305T235149Z
UID:10000097-1776873600-1776895200@www.brokenbowgolfclub.com
SUMMARY:Men's League
DESCRIPTION:Join us for Men’s League and enjoy a great evening of golf\, camaraderie\, and time on the course. It’s a great opportunity to connect with other golfers and enjoy a relaxed and fun atmosphere. \n\n\n\nOn league nights\, we also offer drink specials and food available for purchase\, making it a great way to spend the evening both on and off the course. \n\n\n\nIf you’re interested in signing up for Men’s League\, please contact  \n\n\n\nBrad White @ 308-870-0206 for more information and to get signed up.
URL:https://www.brokenbowgolfclub.com/event/mens-league-19/2026-04-22/
END:VEVENT
BEGIN:VEVENT
DTSTART;TZID=UTC:20260429T160000
DTEND;TZID=UTC:20260429T220000
DTSTAMP:20260421T154313
CREATED:20260305T235146Z
LAST-MODIFIED:20260305T235149Z
UID:10000098-1777478400-1777500000@www.brokenbowgolfclub.com
SUMMARY:Men's League
DESCRIPTION:Join us for Men’s League and enjoy a great evening of golf\, camaraderie\, and time on the course. It’s a great opportunity to connect with other golfers and enjoy a relaxed and fun atmosphere. \n\n\n\nOn league nights\, we also offer drink specials and food available for purchase\, making it a great way to spend the evening both on and off the course. \n\n\n\nIf you’re interested in signing up for Men’s League\, please contact  \n\n\n\nBrad White @ 308-870-0206 for more information and to get signed up.
URL:https://www.brokenbowgolfclub.com/event/mens-league-19/2026-04-29/
END:VEVENT
BEGIN:VEVENT
DTSTART;TZID=UTC:20260506T160000
DTEND;TZID=UTC:20260506T220000
DTSTAMP:20260421T154313
CREATED:20260305T235146Z
LAST-MODIFIED:20260305T235149Z
UID:10000099-1778083200-1778104800@www.brokenbowgolfclub.com
SUMMARY:Men's League
DESCRIPTION:Join us for Men’s League and enjoy a great evening of golf\, camaraderie\, and time on the course. It’s a great opportunity to connect with other golfers and enjoy a relaxed and fun atmosphere. \n\n\n\nOn league nights\, we also offer drink specials and food available for purchase\, making it a great way to spend the evening both on and off the course. \n\n\n\nIf you’re interested in signing up for Men’s League\, please contact  \n\n\n\nBrad White @ 308-870-0206 for more information and to get signed up.
URL:https://www.brokenbowgolfclub.com/event/mens-league-19/2026-05-06/
END:VEVENT
BEGIN:VEVENT
DTSTART;TZID=UTC:20260513T160000
DTEND;TZID=UTC:20260513T220000
DTSTAMP:20260421T154313
CREATED:20260305T235146Z
LAST-MODIFIED:20260305T235149Z
UID:10000100-1778688000-1778709600@www.brokenbowgolfclub.com
SUMMARY:Men's League
DESCRIPTION:Join us for Men’s League and enjoy a great evening of golf\, camaraderie\, and time on the course. It’s a great opportunity to connect with other golfers and enjoy a relaxed and fun atmosphere. \n\n\n\nOn league nights\, we also offer drink specials and food available for purchase\, making it a great way to spend the evening both on and off the course. \n\n\n\nIf you’re interested in signing up for Men’s League\, please contact  \n\n\n\nBrad White @ 308-870-0206 for more information and to get signed up.
URL:https://www.brokenbowgolfclub.com/event/mens-league-19/2026-05-13/
END:VEVENT
BEGIN:VEVENT
DTSTART;TZID=UTC:20260520T160000
DTEND;TZID=UTC:20260520T220000
DTSTAMP:20260421T154313
CREATED:20260305T235146Z
LAST-MODIFIED:20260305T235149Z
UID:10000101-1779292800-1779314400@www.brokenbowgolfclub.com
SUMMARY:Men's League
DESCRIPTION:Join us for Men’s League and enjoy a great evening of golf\, camaraderie\, and time on the course. It’s a great opportunity to connect with other golfers and enjoy a relaxed and fun atmosphere. \n\n\n\nOn league nights\, we also offer drink specials and food available for purchase\, making it a great way to spend the evening both on and off the course. \n\n\n\nIf you’re interested in signing up for Men’s League\, please contact  \n\n\n\nBrad White @ 308-870-0206 for more information and to get signed up.
URL:https://www.brokenbowgolfclub.com/event/mens-league-19/2026-05-20/
END:VEVENT
BEGIN:VEVENT
DTSTART;TZID=UTC:20260527T160000
DTEND;TZID=UTC:20260527T220000
DTSTAMP:20260421T154313
CREATED:20260305T235146Z
LAST-MODIFIED:20260305T235149Z
UID:10000102-1779897600-1779919200@www.brokenbowgolfclub.com
SUMMARY:Men's League
DESCRIPTION:Join us for Men’s League and enjoy a great evening of golf\, camaraderie\, and time on the course. It’s a great opportunity to connect with other golfers and enjoy a relaxed and fun atmosphere. \n\n\n\nOn league nights\, we also offer drink specials and food available for purchase\, making it a great way to spend the evening both on and off the course. \n\n\n\nIf you’re interested in signing up for Men’s League\, please contact  \n\n\n\nBrad White @ 308-870-0206 for more information and to get signed up.
URL:https://www.brokenbowgolfclub.com/event/mens-league-19/2026-05-27/
END:VEVENT
BEGIN:VEVENT
DTSTART;TZID=UTC:20260603T160000
DTEND;TZID=UTC:20260603T220000
DTSTAMP:20260421T154313
CREATED:20260305T235146Z
LAST-MODIFIED:20260305T235149Z
UID:10000103-1780502400-1780524000@www.brokenbowgolfclub.com
SUMMARY:Men's League
DESCRIPTION:Join us for Men’s League and enjoy a great evening of golf\, camaraderie\, and time on the course. It’s a great opportunity to connect with other golfers and enjoy a relaxed and fun atmosphere. \n\n\n\nOn league nights\, we also offer drink specials and food available for purchase\, making it a great way to spend the evening both on and off the course. \n\n\n\nIf you’re interested in signing up for Men’s League\, please contact  \n\n\n\nBrad White @ 308-870-0206 for more information and to get signed up.
URL:https://www.brokenbowgolfclub.com/event/mens-league-19/2026-06-03/
END:VEVENT
BEGIN:VEVENT
DTSTART;TZID=UTC:20260610T160000
DTEND;TZID=UTC:20260610T220000
DTSTAMP:20260421T154313
CREATED:20260305T235146Z
LAST-MODIFIED:20260305T235149Z
UID:10000104-1781107200-1781128800@www.brokenbowgolfclub.com
SUMMARY:Men's League
DESCRIPTION:Join us for Men’s League and enjoy a great evening of golf\, camaraderie\, and time on the course. It’s a great opportunity to connect with other golfers and enjoy a relaxed and fun atmosphere. \n\n\n\nOn league nights\, we also offer drink specials and food available for purchase\, making it a great way to spend the evening both on and off the course. \n\n\n\nIf you’re interested in signing up for Men’s League\, please contact  \n\n\n\nBrad White @ 308-870-0206 for more information and to get signed up.
URL:https://www.brokenbowgolfclub.com/event/mens-league-19/2026-06-10/
END:VEVENT
BEGIN:VEVENT
DTSTART;TZID=UTC:20260617T160000
DTEND;TZID=UTC:20260617T220000
DTSTAMP:20260421T154313
CREATED:20260305T235146Z
LAST-MODIFIED:20260305T235149Z
UID:10000105-1781712000-1781733600@www.brokenbowgolfclub.com
SUMMARY:Men's League
DESCRIPTION:Join us for Men’s League and enjoy a great evening of golf\, camaraderie\, and time on the course. It’s a great opportunity to connect with other golfers and enjoy a relaxed and fun atmosphere. \n\n\n\nOn league nights\, we also offer drink specials and food available for purchase\, making it a great way to spend the evening both on and off the course. \n\n\n\nIf you’re interested in signing up for Men’s League\, please contact  \n\n\n\nBrad White @ 308-870-0206 for more information and to get signed up.
URL:https://www.brokenbowgolfclub.com/event/mens-league-19/2026-06-17/
END:VEVENT
BEGIN:VEVENT
DTSTART;TZID=UTC:20260624T160000
DTEND;TZID=UTC:20260624T220000
DTSTAMP:20260421T154313
CREATED:20260305T235146Z
LAST-MODIFIED:20260305T235149Z
UID:10000106-1782316800-1782338400@www.brokenbowgolfclub.com
SUMMARY:Men's League
DESCRIPTION:Join us for Men’s League and enjoy a great evening of golf\, camaraderie\, and time on the course. It’s a great opportunity to connect with other golfers and enjoy a relaxed and fun atmosphere. \n\n\n\nOn league nights\, we also offer drink specials and food available for purchase\, making it a great way to spend the evening both on and off the course. \n\n\n\nIf you’re interested in signing up for Men’s League\, please contact  \n\n\n\nBrad White @ 308-870-0206 for more information and to get signed up.
URL:https://www.brokenbowgolfclub.com/event/mens-league-19/2026-06-24/
END:VEVENT
BEGIN:VEVENT
DTSTART;TZID=UTC:20260701T160000
DTEND;TZID=UTC:20260701T220000
DTSTAMP:20260421T154313
CREATED:20260305T235146Z
LAST-MODIFIED:20260305T235149Z
UID:10000107-1782921600-1782943200@www.brokenbowgolfclub.com
SUMMARY:Men's League
DESCRIPTION:Join us for Men’s League and enjoy a great evening of golf\, camaraderie\, and time on the course. It’s a great opportunity to connect with other golfers and enjoy a relaxed and fun atmosphere. \n\n\n\nOn league nights\, we also offer drink specials and food available for purchase\, making it a great way to spend the evening both on and off the course. \n\n\n\nIf you’re interested in signing up for Men’s League\, please contact  \n\n\n\nBrad White @ 308-870-0206 for more information and to get signed up.
URL:https://www.brokenbowgolfclub.com/event/mens-league-19/2026-07-01/
END:VEVENT
BEGIN:VEVENT
DTSTART;TZID=UTC:20260708T160000
DTEND;TZID=UTC:20260708T220000
DTSTAMP:20260421T154313
CREATED:20260305T235146Z
LAST-MODIFIED:20260305T235149Z
UID:10000108-1783526400-1783548000@www.brokenbowgolfclub.com
SUMMARY:Men's League
DESCRIPTION:Join us for Men’s League and enjoy a great evening of golf\, camaraderie\, and time on the course. It’s a great opportunity to connect with other golfers and enjoy a relaxed and fun atmosphere. \n\n\n\nOn league nights\, we also offer drink specials and food available for purchase\, making it a great way to spend the evening both on and off the course. \n\n\n\nIf you’re interested in signing up for Men’s League\, please contact  \n\n\n\nBrad White @ 308-870-0206 for more information and to get signed up.
URL:https://www.brokenbowgolfclub.com/event/mens-league-19/2026-07-08/
END:VEVENT
BEGIN:VEVENT
DTSTART;TZID=UTC:20260715T160000
DTEND;TZID=UTC:20260715T220000
DTSTAMP:20260421T154313
CREATED:20260305T235146Z
LAST-MODIFIED:20260305T235149Z
UID:10000109-1784131200-1784152800@www.brokenbowgolfclub.com
SUMMARY:Men's League
DESCRIPTION:Join us for Men’s League and enjoy a great evening of golf\, camaraderie\, and time on the course. It’s a great opportunity to connect with other golfers and enjoy a relaxed and fun atmosphere. \n\n\n\nOn league nights\, we also offer drink specials and food available for purchase\, making it a great way to spend the evening both on and off the course. \n\n\n\nIf you’re interested in signing up for Men’s League\, please contact  \n\n\n\nBrad White @ 308-870-0206 for more information and to get signed up.
URL:https://www.brokenbowgolfclub.com/event/mens-league-19/2026-07-15/
END:VEVENT
BEGIN:VEVENT
DTSTART;TZID=UTC:20260722T160000
DTEND;TZID=UTC:20260722T220000
DTSTAMP:20260421T154313
CREATED:20260305T235146Z
LAST-MODIFIED:20260305T235149Z
UID:10000110-1784736000-1784757600@www.brokenbowgolfclub.com
SUMMARY:Men's League
DESCRIPTION:Join us for Men’s League and enjoy a great evening of golf\, camaraderie\, and time on the course. It’s a great opportunity to connect with other golfers and enjoy a relaxed and fun atmosphere. \n\n\n\nOn league nights\, we also offer drink specials and food available for purchase\, making it a great way to spend the evening both on and off the course. \n\n\n\nIf you’re interested in signing up for Men’s League\, please contact  \n\n\n\nBrad White @ 308-870-0206 for more information and to get signed up.
URL:https://www.brokenbowgolfclub.com/event/mens-league-19/2026-07-22/
END:VEVENT
BEGIN:VEVENT
DTSTART;TZID=UTC:20260729T160000
DTEND;TZID=UTC:20260729T220000
DTSTAMP:20260421T154313
CREATED:20260305T235146Z
LAST-MODIFIED:20260305T235149Z
UID:10000111-1785340800-1785362400@www.brokenbowgolfclub.com
SUMMARY:Men's League
DESCRIPTION:Join us for Men’s League and enjoy a great evening of golf\, camaraderie\, and time on the course. It’s a great opportunity to connect with other golfers and enjoy a relaxed and fun atmosphere. \n\n\n\nOn league nights\, we also offer drink specials and food available for purchase\, making it a great way to spend the evening both on and off the course. \n\n\n\nIf you’re interested in signing up for Men’s League\, please contact  \n\n\n\nBrad White @ 308-870-0206 for more information and to get signed up.
URL:https://www.brokenbowgolfclub.com/event/mens-league-19/2026-07-29/
END:VEVENT
BEGIN:VEVENT
DTSTART;TZID=UTC:20260805T160000
DTEND;TZID=UTC:20260805T220000
DTSTAMP:20260421T154313
CREATED:20260305T235146Z
LAST-MODIFIED:20260305T235149Z
UID:10000112-1785945600-1785967200@www.brokenbowgolfclub.com
SUMMARY:Men's League
DESCRIPTION:Join us for Men’s League and enjoy a great evening of golf\, camaraderie\, and time on the course. It’s a great opportunity to connect with other golfers and enjoy a relaxed and fun atmosphere. \n\n\n\nOn league nights\, we also offer drink specials and food available for purchase\, making it a great way to spend the evening both on and off the course. \n\n\n\nIf you’re interested in signing up for Men’s League\, please contact  \n\n\n\nBrad White @ 308-870-0206 for more information and to get signed up.
URL:https://www.brokenbowgolfclub.com/event/mens-league-19/2026-08-05/
END:VEVENT
BEGIN:VEVENT
DTSTART;TZID=UTC:20260812T160000
DTEND;TZID=UTC:20260812T220000
DTSTAMP:20260421T154313
CREATED:20260305T235146Z
LAST-MODIFIED:20260305T235149Z
UID:10000113-1786550400-1786572000@www.brokenbowgolfclub.com
SUMMARY:Men's League
DESCRIPTION:Join us for Men’s League and enjoy a great evening of golf\, camaraderie\, and time on the course. It’s a great opportunity to connect with other golfers and enjoy a relaxed and fun atmosphere. \n\n\n\nOn league nights\, we also offer drink specials and food available for purchase\, making it a great way to spend the evening both on and off the course. \n\n\n\nIf you’re interested in signing up for Men’s League\, please contact  \n\n\n\nBrad White @ 308-870-0206 for more information and to get signed up.
URL:https://www.brokenbowgolfclub.com/event/mens-league-19/2026-08-12/
END:VEVENT
BEGIN:VEVENT
DTSTART;TZID=UTC:20260819T160000
DTEND;TZID=UTC:20260819T220000
DTSTAMP:20260421T154313
CREATED:20260305T235146Z
LAST-MODIFIED:20260305T235149Z
UID:10000114-1787155200-1787176800@www.brokenbowgolfclub.com
SUMMARY:Men's League
DESCRIPTION:Join us for Men’s League and enjoy a great evening of golf\, camaraderie\, and time on the course. It’s a great opportunity to connect with other golfers and enjoy a relaxed and fun atmosphere. \n\n\n\nOn league nights\, we also offer drink specials and food available for purchase\, making it a great way to spend the evening both on and off the course. \n\n\n\nIf you’re interested in signing up for Men’s League\, please contact  \n\n\n\nBrad White @ 308-870-0206 for more information and to get signed up.
URL:https://www.brokenbowgolfclub.com/event/mens-league-19/2026-08-19/
END:VEVENT
BEGIN:VEVENT
DTSTART;TZID=UTC:20260826T160000
DTEND;TZID=UTC:20260826T220000
DTSTAMP:20260421T154313
CREATED:20260305T235146Z
LAST-MODIFIED:20260305T235149Z
UID:10000115-1787760000-1787781600@www.brokenbowgolfclub.com
SUMMARY:Men's League
DESCRIPTION:Join us for Men’s League and enjoy a great evening of golf\, camaraderie\, and time on the course. It’s a great opportunity to connect with other golfers and enjoy a relaxed and fun atmosphere. \n\n\n\nOn league nights\, we also offer drink specials and food available for purchase\, making it a great way to spend the evening both on and off the course. \n\n\n\nIf you’re interested in signing up for Men’s League\, please contact  \n\n\n\nBrad White @ 308-870-0206 for more information and to get signed up.
URL:https://www.brokenbowgolfclub.com/event/mens-league-19/2026-08-26/
END:VEVENT
BEGIN:VEVENT
DTSTART;TZID=UTC:20260902T160000
DTEND;TZID=UTC:20260902T220000
DTSTAMP:20260421T154313
CREATED:20260305T235146Z
LAST-MODIFIED:20260305T235149Z
UID:10000116-1788364800-1788386400@www.brokenbowgolfclub.com
SUMMARY:Men's League
DESCRIPTION:Join us for Men’s League and enjoy a great evening of golf\, camaraderie\, and time on the course. It’s a great opportunity to connect with other golfers and enjoy a relaxed and fun atmosphere. \n\n\n\nOn league nights\, we also offer drink specials and food available for purchase\, making it a great way to spend the evening both on and off the course. \n\n\n\nIf you’re interested in signing up for Men’s League\, please contact  \n\n\n\nBrad White @ 308-870-0206 for more information and to get signed up.
URL:https://www.brokenbowgolfclub.com/event/mens-league-19/2026-09-02/
END:VEVENT
BEGIN:VEVENT
DTSTART;TZID=UTC:20260909T160000
DTEND;TZID=UTC:20260909T220000
DTSTAMP:20260421T154313
CREATED:20260305T235146Z
LAST-MODIFIED:20260305T235149Z
UID:10000117-1788969600-1788991200@www.brokenbowgolfclub.com
SUMMARY:Men's League
DESCRIPTION:Join us for Men’s League and enjoy a great evening of golf\, camaraderie\, and time on the course. It’s a great opportunity to connect with other golfers and enjoy a relaxed and fun atmosphere. \n\n\n\nOn league nights\, we also offer drink specials and food available for purchase\, making it a great way to spend the evening both on and off the course. \n\n\n\nIf you’re interested in signing up for Men’s League\, please contact  \n\n\n\nBrad White @ 308-870-0206 for more information and to get signed up.
URL:https://www.brokenbowgolfclub.com/event/mens-league-19/2026-09-09/
END:VEVENT
BEGIN:VEVENT
DTSTART;TZID=UTC:20260916T160000
DTEND;TZID=UTC:20260916T220000
DTSTAMP:20260421T154313
CREATED:20260305T235146Z
LAST-MODIFIED:20260305T235149Z
UID:10000118-1789574400-1789596000@www.brokenbowgolfclub.com
SUMMARY:Men's League
DESCRIPTION:Join us for Men’s League and enjoy a great evening of golf\, camaraderie\, and time on the course. It’s a great opportunity to connect with other golfers and enjoy a relaxed and fun atmosphere. \n\n\n\nOn league nights\, we also offer drink specials and food available for purchase\, making it a great way to spend the evening both on and off the course. \n\n\n\nIf you’re interested in signing up for Men’s League\, please contact  \n\n\n\nBrad White @ 308-870-0206 for more information and to get signed up.
URL:https://www.brokenbowgolfclub.com/event/mens-league-19/2026-09-16/
END:VEVENT
BEGIN:VEVENT
DTSTART;TZID=UTC:20260923T160000
DTEND;TZID=UTC:20260923T220000
DTSTAMP:20260421T154313
CREATED:20260305T235146Z
LAST-MODIFIED:20260305T235149Z
UID:10000119-1790179200-1790200800@www.brokenbowgolfclub.com
SUMMARY:Men's League
DESCRIPTION:Join us for Men’s League and enjoy a great evening of golf\, camaraderie\, and time on the course. It’s a great opportunity to connect with other golfers and enjoy a relaxed and fun atmosphere. \n\n\n\nOn league nights\, we also offer drink specials and food available for purchase\, making it a great way to spend the evening both on and off the course. \n\n\n\nIf you’re interested in signing up for Men’s League\, please contact  \n\n\n\nBrad White @ 308-870-0206 for more information and to get signed up.
URL:https://www.brokenbowgolfclub.com/event/mens-league-19/2026-09-23/
END:VEVENT
BEGIN:VEVENT
DTSTART;TZID=UTC:20260930T160000
DTEND;TZID=UTC:20260930T220000
DTSTAMP:20260421T154313
CREATED:20260305T235146Z
LAST-MODIFIED:20260305T235149Z
UID:10000120-1790784000-1790805600@www.brokenbowgolfclub.com
SUMMARY:Men's League
DESCRIPTION:Join us for Men’s League and enjoy a great evening of golf\, camaraderie\, and time on the course. It’s a great opportunity to connect with other golfers and enjoy a relaxed and fun atmosphere. \n\n\n\nOn league nights\, we also offer drink specials and food available for purchase\, making it a great way to spend the evening both on and off the course. \n\n\n\nIf you’re interested in signing up for Men’s League\, please contact  \n\n\n\nBrad White @ 308-870-0206 for more information and to get signed up.
URL:https://www.brokenbowgolfclub.com/event/mens-league-19/2026-09-30/
END:VEVENT
BEGIN:VEVENT
DTSTART;TZID=UTC:20261007T160000
DTEND;TZID=UTC:20261007T220000
DTSTAMP:20260421T154313
CREATED:20260305T235146Z
LAST-MODIFIED:20260305T235149Z
UID:10000121-1791388800-1791410400@www.brokenbowgolfclub.com
SUMMARY:Men's League
DESCRIPTION:Join us for Men’s League and enjoy a great evening of golf\, camaraderie\, and time on the course. It’s a great opportunity to connect with other golfers and enjoy a relaxed and fun atmosphere. \n\n\n\nOn league nights\, we also offer drink specials and food available for purchase\, making it a great way to spend the evening both on and off the course. \n\n\n\nIf you’re interested in signing up for Men’s League\, please contact  \n\n\n\nBrad White @ 308-870-0206 for more information and to get signed up.
URL:https://www.brokenbowgolfclub.com/event/mens-league-19/2026-10-07/
END:VEVENT
BEGIN:VEVENT
DTSTART;TZID=UTC:20261014T160000
DTEND;TZID=UTC:20261014T220000
DTSTAMP:20260421T154313
CREATED:20260305T235146Z
LAST-MODIFIED:20260305T235149Z
UID:10000122-1791993600-1792015200@www.brokenbowgolfclub.com
SUMMARY:Men's League
DESCRIPTION:Join us for Men’s League and enjoy a great evening of golf\, camaraderie\, and time on the course. It’s a great opportunity to connect with other golfers and enjoy a relaxed and fun atmosphere. \n\n\n\nOn league nights\, we also offer drink specials and food available for purchase\, making it a great way to spend the evening both on and off the course. \n\n\n\nIf you’re interested in signing up for Men’s League\, please contact  \n\n\n\nBrad White @ 308-870-0206 for more information and to get signed up.
URL:https://www.brokenbowgolfclub.com/event/mens-league-19/2026-10-14/
END:VEVENT
END:VCALENDAR